BEGIN:VCALENDAR
VERSION:2.0
PRODID:-//ChamberMaster//Event Calendar 2.0//EN
METHOD:PUBLISH
X-PUBLISHED-TTL:P3D
REFRESH-INTERVAL:P3D
CALSCALE:GREGORIAN
BEGIN:VEVENT
DTSTART;VALUE=DATE:20101210
DTEND;VALUE=DATE:20101220
TRANSP:TRANSPARENT
X-MICROSOFT-CDO-ALLDAYEVENT:TRUE
SUMMARY:The Nutcracker by BNC Dance
DESCRIPTION:BNC is the only Nutcracker in town where all children are invited on stage after the show to learn steps from the performance\, and get a chance to meet the Sugar Plum Fairy\, her Cavalier\, the Nutcracker and Clara. Join us for this family-friendly holiday tradition.
X-ALT-DESC;FMTTYPE=text/html:BNC is the only Nutcracker in town where all children are invited on stage after the show to learn steps from the performance\, and get a chance to meet the Sugar Plum Fairy\, her Cavalier\, the Nutcracker and Clara. Join us for this family-friendly holiday tradition.
LOCATION:Performing Arts Complex at PCS 1001 W 84th Avenue Denver\, CO - United States
UID:e.641.1203
SEQUENCE:3
DTSTAMP:20260420T155304Z
URL:http://business.broomfieldchamber.com/events/details/the-nutcracker-by-bnc-dance-12-10-2010-1203
END:VEVENT

END:VCALENDAR
