BEGIN:VCALENDAR
VERSION:2.0
PRODID:-//ChamberMaster//Event Calendar 2.0//EN
METHOD:PUBLISH
X-PUBLISHED-TTL:P3D
REFRESH-INTERVAL:P3D
CALSCALE:GREGORIAN
BEGIN:VEVENT
DTSTART:20111118T143000Z
DTEND:20111118T163000Z
X-MICROSOFT-CDO-ALLDAYEVENT:FALSE
SUMMARY:The Power of 5 Leads Groups
DESCRIPTION:Join the five Broomfield Chamber Leads Groups for a Special Networking event!\n\n\n\nGuest Speaker: Mark McIntosh\n\nThe long-time Denver television and radio personality presents:\n\n"Lemons into Margaritas" which encourages people to realize the importance of effectively dealing with change\, challenge and adversity. Inspired by moments from family\, friends\, speaking engagements\, hosting Colorado & Company and other venues\, Mark with his positive outlook encourages others to run to daylight and play like a champion\n\nin the game of life.\n\n\n\nCheck only for donations\n\n$10 Advance Tickets\, $15 at the Door\n\nAll Proceeds go to: Broomfield Senior Resource Center\n\n\n\nNon-Members Welcome!\n\n\n	RSVP by November 14th to Stacy Logay\n\n	StacyLogay@gtscom.com\n\n	(303) 901-1324\n\n	\n\n	GRAND PRIZE donated by Mercedes Benz of Westminster\n\n	(2) Weekend Leases on a Mercedes!\n\n	\n\n	A Broomfield Chamber of Commerce Leads Group Event
X-ALT-DESC;FMTTYPE=text/html:<span style="font-family: verdana"><em><span style="font-size: 16px"><strong>Join the five Broomfield Chamber Leads Groups for a Special Networking event!<br />\n<br />\n<span style="color: #ff0000"><span style="font-size: medium"><strong><em><font size="3">Guest Speaker: Mark McIntosh</font></em></strong></span></span></strong><br />\n<span style="font-size: medium"><em><font size="3"><strong>The long-time Denver television and radio personality presents:<br />\n&ldquo\;Lemons into Margaritas&rdquo\;</strong> which encourages people to realize the importance of effectively dealing with change\, challenge and adversity. Inspired by moments from family\, friends\, speaking engagements\, hosting Colorado &amp\; Company and other venues\, Mark with his positive outlook encourages others to run to daylight and play like a champion<br />\nin the game of life.<br />\n<br />\n<span style="color: #000000"><font face="Verdana">Check only for donations<br />\n$10 Advance Tickets\, $15 at the Door<br />\n<strong>All Proceeds go to: Broomfield Senior Resource Center<br />\n<br />\n<font face="Verdana" size="4">Non-Members Welcome!</font></strong></font></span></font></em></span></span></em></span><br />\n<h3 style="color: red">\n	<span style="font-size: 16px">RSVP by November 14th to Stacy Logay</span><br />\n	<span style="color: #000000"><span style="font-family: verdana"><span style="font-size: 16px"><a href="mailto:StacyLogay@gtscom.com">StacyLogay@gtscom.com</a><br />\n	(303) 901-1324</span></span></span><br />\n	<br />\n	<span style="color: #ff0000"><strong><span style="font-size: 16px"><span style="font-family: verdana">GRAND PRIZE&nbsp\;donated by&nbsp\;Mercedes Benz of Westminster<br />\n	<span style="font-size: 18px">(2) Weekend Leases on a Mercedes!</span></span></span></strong></span><br />\n	<br />\n	<big><strong><span style="color: #000000"><span style="font-family: verdana"><span style="font-size: 16px"><span style="font-size: 18px">A Broomfield Chamber of Commerce Leads Group Event</span></span></span></span></strong></big></h3>\n
LOCATION:NOAH's Event Center 11881 N. Bradburn Blvd. Westminster\, CO 80031
UID:e.641.3096
SEQUENCE:3
DTSTAMP:20260420T005512Z
URL:http://business.broomfieldchamber.com/events/details/the-power-of-5-leads-groups-11-18-2011-3096
END:VEVENT

END:VCALENDAR
