BEGIN:VCALENDAR
VERSION:2.0
PRODID:-//ChamberMaster//Event Calendar 2.0//EN
METHOD:PUBLISH
X-PUBLISHED-TTL:P3D
REFRESH-INTERVAL:P3D
CALSCALE:GREGORIAN
BEGIN:VEVENT
DTSTART:20081113T070000Z
DTEND:20081113T070000Z
X-MICROSOFT-CDO-ALLDAYEVENT:FALSE
SUMMARY:The Power of Five 11/08
DESCRIPTION:
X-ALT-DESC;FMTTYPE=text/html:
LOCATION:Sill TerHar Ford
UID:e.641.400
SEQUENCE:3
DTSTAMP:20260422T083418Z
URL:http://business.broomfieldchamber.com/events/details/the-power-of-five-11-08-11-13-2008-400
END:VEVENT

END:VCALENDAR
