BEGIN:VCALENDAR
VERSION:2.0
PRODID:-//ChamberMaster//Event Calendar 2.0//EN
METHOD:PUBLISH
X-PUBLISHED-TTL:P3D
REFRESH-INTERVAL:P3D
CALSCALE:GREGORIAN
BEGIN:VEVENT
DTSTART:20110721T174500Z
DTEND:20110721T191500Z
X-MICROSOFT-CDO-ALLDAYEVENT:FALSE
SUMMARY:The Power of Five Leads Groups!
DESCRIPTION:Join the five Broomfield Chamber Leads Groups for a special Networking lunch!\n\n\n\nLorna Donovan From Skye Associates will be there presenting:\n\n            "How to Keep Your Head When Your Hair is on Fire"\n\n\n	RSVP by July\, 14th to:\n\n	Mark.Joseph@jjtacs.com\n\n	\n\n	$5 admission fee to benefit Flatirons Habitat for Humanity
X-ALT-DESC;FMTTYPE=text/html:<em><span style="font-size: 16px"><strong>Join the five Broomfield Chamber Leads Groups for a special Networking lunch!<br />\n<br />\nLorna Donovan From Skye Associates will be there presenting:<br />\n&nbsp\;&nbsp\;&nbsp\;&nbsp\;&nbsp\;&nbsp\;&nbsp\;&nbsp\;&nbsp\;&nbsp\;&nbsp\;&nbsp\;&quot\;How to Keep Your Head When Your Hair is on Fire&quot\;</strong></span></em><br />\n<h3 style="color: red">\n	<em><span style="font-size: 16px"><strong>RSVP by July\, 14th to:<br />\n	Mark.Joseph@jjtacs.com<br />\n	<br />\n	$5 admission fee to benefit Flatirons Habitat for Humanity</strong></span></em></h3>\n
LOCATION:Bar Louie 10661 Westminster Blvd. Westminster\, CO 80020 720-214-3300
UID:e.641.2726
SEQUENCE:3
DTSTAMP:20260420T063625Z
URL:http://business.broomfieldchamber.com/events/details/the-power-of-five-leads-groups-07-21-2011-2726
END:VEVENT

END:VCALENDAR
