BEGIN:VCALENDAR
VERSION:2.0
PRODID:-//ChamberMaster//Event Calendar 2.0//EN
METHOD:PUBLISH
X-PUBLISHED-TTL:P3D
REFRESH-INTERVAL:P3D
CALSCALE:GREGORIAN
BEGIN:VEVENT
DTSTART:20110817T220000Z
DTEND:20110818T010000Z
X-MICROSOFT-CDO-ALLDAYEVENT:FALSE
SUMMARY:The Power of Passionate Work
DESCRIPTION:When you're fueled by a sense of calling\, you bring great passion and dedication to your job\, your company and community\, and your life. And this in turn inspires those you lead and steward\, teach and mentor\, to take on their own sense of mission\, service and integrity.\n\n\n\nBut to unleash your own and others' power and personal assets requires courageous self-reflection into your worklife if not your soul\, and a commitment to taking time out for reflection in the onrushing of career and growing a business.\n\n\n\nThis dynamic\, humorous and hands-on seminar will help you tap this power and sense of mission in yourself and in others\, and clarify what's being 'called-for' in your professional and personal life\, knowing that your individual work is also the work of the world that when you insist on your own vitality\, you stake a claim for everyone's vitality\, including those with whom and on whose behalf you work.\n\n\n\nFor more details check out our website: \n\nhttp://www.sustainablebusinessgrowth.com/Speaker_Series__Gregg_Levoy.html
X-ALT-DESC;FMTTYPE=text/html:When you&#39\;re fueled by a sense of calling\, you bring great passion and dedication to your job\, your company and community\, and your life. And this in turn inspires those you lead and steward\, teach and mentor\, to take on their own sense of mission\, service and integrity.<br />\n<br />\nBut to unleash your own and others&#39\; power and personal assets requires courageous self-reflection into your worklife if not your soul\, and a commitment to taking time out for reflection in the onrushing of career and growing a business.<br />\n<br />\nThis dynamic\, humorous and hands-on seminar will help you tap this power and sense of mission in yourself and in others\, and clarify what&#39\;s being &#39\;called-for&#39\; in your professional and personal life\, knowing that your individual work is also the work of the world&mdash\;that when you insist on your own vitality\, you stake a claim for everyone&#39\;s vitality\, including those with whom&mdash\;and on whose behalf&mdash\;you work.<br />\n<br />\nFor more details check out our website:&nbsp\;<br />\nhttp://www.sustainablebusinessgrowth.com/Speaker_Series__Gregg_Levoy.html
LOCATION:A Spice of Life Event Center: 5706 Arapahoe Ave Boulder CO 80303
UID:e.641.2876
SEQUENCE:3
DTSTAMP:20260420T034456Z
URL:http://business.broomfieldchamber.com/events/details/the-power-of-passionate-work-08-17-2011-2876
END:VEVENT

END:VCALENDAR
