BEGIN:VCALENDAR
VERSION:2.0
PRODID:-//ChamberMaster//Event Calendar 2.0//EN
METHOD:PUBLISH
X-PUBLISHED-TTL:P3D
REFRESH-INTERVAL:P3D
CALSCALE:GREGORIAN
BEGIN:VEVENT
DTSTART:20101013T000000Z
DTEND:20101013T023000Z
X-MICROSOFT-CDO-ALLDAYEVENT:FALSE
SUMMARY:The Power of Plus One by VIP Enterprises and Investors Realty Resources
DESCRIPTION:The Power of Plus One (P+1)\n\nOne Asset - One System - One Financial Outcome\n\n\n\nLearn step-by-step how to own 2 properties and have NO DEBT AT ALL (including mortgages)\; not only is it possible for nearly everybody\, but you'll be amazed in how quickly this can be accomplished.
X-ALT-DESC;FMTTYPE=text/html:The Power of Plus One (P+1)\n<br>One Asset - One System - One Financial Outcome\n<br>\n<br>Learn step-by-step how to own 2 properties and have NO DEBT AT ALL (including mortgages)\; not only is it possible for nearly everybody\, but you'll be amazed in how quickly this can be accomplished.\n<br>
LOCATION:hotel VQ at Mile High 1975 Mile High Stadium Circle Denver\, CO 80204
UID:e.641.1208
SEQUENCE:3
DTSTAMP:20260420T190929Z
URL:http://business.broomfieldchamber.com/events/details/the-power-of-plus-one-by-vip-enterprises-and-investors-realty-resources-10-12-2010-1208
END:VEVENT

END:VCALENDAR
