BEGIN:VCALENDAR
VERSION:2.0
PRODID:-//ChamberMaster//Event Calendar 2.0//EN
METHOD:PUBLISH
X-PUBLISHED-TTL:P3D
REFRESH-INTERVAL:P3D
CALSCALE:GREGORIAN
BEGIN:VEVENT
DTSTART:20111030T010000Z
DTEND:20111030T030000Z
X-MICROSOFT-CDO-ALLDAYEVENT:FALSE
SUMMARY:The Spirituals Project
DESCRIPTION:The Spirituals Project is a consciously multi-racial and multi-generational organization\, demonstrating the belief that the spirituals are a gift from African Americans to all people. The organization provides multiple ways for audiences to experience the varying musical traditions of this cultural treasure and the multi-dimensions of the spirituals tradition.\n\nSankofa is a 30-member vocal ensemble that is part of the Spirituals Project. Sankofa is dedicated to sharing\n\nthe beautiful concertized versions of the African American Spirituals. Sankofa is an African word and symbols\n\nmeaning "go back and get it" underscoring the importance of applying lessons from the past as we move toward building the future.\n\nTickets available at www.brownpapertickets.com
X-ALT-DESC;FMTTYPE=text/html:The Spirituals Project is a consciously multi-racial and multi-generational organization\, demonstrating the belief that the spirituals are a gift from African Americans to all people. The organization provides multiple ways for audiences to experience the varying musical traditions of this cultural treasure and the multi-dimensions of the spirituals tradition.<br />\nSankofa is a 30-member vocal ensemble that is part of the Spirituals Project. Sankofa is dedicated to sharing<br />\nthe beautiful concertized versions of the African American Spirituals. Sankofa is an African word and symbols<br />\nmeaning &ldquo\;go back and get it&rdquo\; underscoring the importance of applying lessons from the past as we move toward building the future.<br />\nTickets available at <a href="http://www.brownpapertickets.com">www.brownpapertickets.com</a>
LOCATION:Broomfield Auditorium 3 Community Park Road Broomfield CO 80020
UID:e.641.2902
SEQUENCE:3
DTSTAMP:20260420T005738Z
URL:http://business.broomfieldchamber.com/events/details/the-spirituals-project-10-29-2011-2902
END:VEVENT

END:VCALENDAR
