BEGIN:VCALENDAR
VERSION:2.0
PRODID:-//ChamberMaster//Event Calendar 2.0//EN
METHOD:PUBLISH
X-PUBLISHED-TTL:P3D
REFRESH-INTERVAL:P3D
CALSCALE:GREGORIAN
BEGIN:VEVENT
DTSTART;VALUE=DATE:20110609
DTEND;VALUE=DATE:20110620
TRANSP:TRANSPARENT
X-MICROSOFT-CDO-ALLDAYEVENT:TRUE
SUMMARY:The Ultimate Sale at Coldwater Creek
DESCRIPTION:50% off the entire store for 10 days only.  Sale starts on Thursday June 9th at 10 a.m.\n\nHope to see you there.
X-ALT-DESC;FMTTYPE=text/html:50% off the entire store for 10 days only.&nbsp\; Sale starts on Thursday June 9th at 10 a.m.<br />\nHope to see you there.
LOCATION:1 W. Flatiron Cir. #2156 Broomfield\, Co 80021
UID:e.641.1491
SEQUENCE:3
DTSTAMP:20260420T063759Z
URL:http://business.broomfieldchamber.com/events/details/the-ultimate-sale-at-coldwater-creek-06-09-2011-1491
END:VEVENT

END:VCALENDAR
