BEGIN:VCALENDAR
VERSION:2.0
PRODID:-//ChamberMaster//Event Calendar 2.0//EN
METHOD:PUBLISH
X-PUBLISHED-TTL:P3D
REFRESH-INTERVAL:P3D
CALSCALE:GREGORIAN
BEGIN:VEVENT
DTSTART;VALUE=DATE:20110630
DTEND;VALUE=DATE:20110701
TRANSP:TRANSPARENT
X-MICROSOFT-CDO-ALLDAYEVENT:TRUE
SUMMARY:Thursday's Business Build Leads Group
DESCRIPTION:Chamber Leads Groups generate business opportunities by providing a structured environment where members may pass qualified sales leads in a non-competitive and mutually supportive manner.\n\n	Belonging to a Chamber Leads Group may significantly increase your sales efforts\, since group members have the incentive to become salespersons for each other's products and services. Members within the group become a marketing force for each other. This mutually supportive environment is what makes a Chamber Leads Group so powerful.\n\n	There's a Leads Group that meets each weekday\, at convenient times and locations around the Broomfield Area. Generally only one business category is allowed to participate in each group\, giving you exclusive access to a whole network of business associates in a friendly setting.\n\n	 \n\n\nContact this group's moderator before attending: Vince Secor
X-ALT-DESC;FMTTYPE=text/html:<p>\n	<strong>Chamber Leads Groups</strong> generate business opportunities by providing a structured environment where members may pass qualified sales leads in a non-competitive and mutually supportive manner.</p>\n<p>\n	<strong>Belonging to a Chamber Leads Group</strong> may significantly increase your sales efforts\, since group members have the incentive to become salespersons for each other&#39\;s products and services. Members within the group become a marketing force for each other. This mutually supportive environment is what makes a Chamber Leads Group so powerful.</p>\n<p>\n	T<strong>here&#39\;s a Leads Group that meets each weekday\,</strong> at convenient times and locations around the Broomfield Area. Generally only one business category is allowed to participate in each group\, giving you exclusive access to a whole network of business associates in a friendly setting.<br />\n	&nbsp\;</p>\n<br />\nContact this group&#39\;s moderator before attending: Vince Secor
LOCATION:Bar Louie Westminster Promenade 10661 Westminster Blvd. Westminster\, CO 80020
UID:e.641.2320
SEQUENCE:3
DTSTAMP:20260420T063450Z
URL:http://business.broomfieldchamber.com/events/details/thursday-s-business-build-leads-group-06-30-2011-2320
END:VEVENT

END:VCALENDAR
