BEGIN:VCALENDAR
VERSION:2.0
PRODID:-//ChamberMaster//Event Calendar 2.0//EN
METHOD:PUBLISH
X-PUBLISHED-TTL:P3D
REFRESH-INTERVAL:P3D
CALSCALE:GREGORIAN
BEGIN:VEVENT
DTSTART:20110604T143000Z
DTEND:20110604T160000Z
X-MICROSOFT-CDO-ALLDAYEVENT:FALSE
SUMMARY:Travel Show at Coldwater Creek
DESCRIPTION:Come to our Travel Show where you will learn how to pack 8 pieces of apparel to create 30 different style looks for your traveling adventures.\n\n\n\nEnjoy a complimentary continental breakfast & an additional 10% discount (plus the current offer) for those who attend our special event.
X-ALT-DESC;FMTTYPE=text/html:<em><strong><span style="font-size: 16px"><span style="font-family: verdana">Come to our Travel Show where you will learn how to pack 8 pieces of apparel to create 30 different style looks for your traveling adventures.</span></span></strong></em><br />\n<br />\n<span style="font-size: 14px">Enjoy a complimentary continental breakfast &amp\; an additional 10% discount (plus the current offer) for those who attend our special event.</span><br />\n
LOCATION:In Store
UID:e.641.1481
SEQUENCE:3
DTSTAMP:20260420T063712Z
URL:http://business.broomfieldchamber.com/events/details/travel-show-at-coldwater-creek-06-04-2011-1481
END:VEVENT

END:VCALENDAR
