BEGIN:VCALENDAR
VERSION:2.0
PRODID:-//ChamberMaster//Event Calendar 2.0//EN
METHOD:PUBLISH
X-PUBLISHED-TTL:P3D
REFRESH-INTERVAL:P3D
CALSCALE:GREGORIAN
BEGIN:VEVENT
DTSTART:20110529T160000Z
DTEND:20110529T210000Z
X-MICROSOFT-CDO-ALLDAYEVENT:FALSE
SUMMARY:Trek Demo Day at Golden Bear Bikes
DESCRIPTION:Trek will bring Road and Mountain Bikes for all to test!\n\n\n\nThey will have their trailer full and you will have access to trail-head or road lanes\n\n\n\nCome and enjoy!
X-ALT-DESC;FMTTYPE=text/html:<span style="font-size: 16px">Trek will bring Road and Mountain Bikes for all to test!<br />\n<br />\nThey will have their trailer full and you will have access to trail-head or road lanes<br />\n<br />\n<strong>Come and enjoy!</strong></span><br />\n<br />\n
LOCATION:Community PK 1350 Coalton Rd Superior CO. Just West of the Safeway in the Rock Creek Shopping Center
UID:e.641.1460
SEQUENCE:3
DTSTAMP:20260420T093435Z
URL:http://business.broomfieldchamber.com/events/details/trek-demo-day-at-golden-bear-bikes-05-29-2011-1460
END:VEVENT

END:VCALENDAR
