BEGIN:VCALENDAR
VERSION:2.0
PRODID:-//ChamberMaster//Event Calendar 2.0//EN
METHOD:PUBLISH
X-PUBLISHED-TTL:P3D
REFRESH-INTERVAL:P3D
CALSCALE:GREGORIAN
BEGIN:VEVENT
DTSTART:20120725T223000Z
DTEND:20120726T020000Z
X-MICROSOFT-CDO-ALLDAYEVENT:FALSE
SUMMARY:Trek Womens Demo and Road Ride
DESCRIPTION:Golden Bear Bikes\n\nJoin us for our WOMENS Trek Demo and Road Ride.\n\nRoad Bikes and Mountain Bikes to try\n\nDemo starts at 4:30 pm today at the Broomfield Commons Park 13th and Sheridan. Road Ride will start at 6pm. For more information call GBB at 303.469.7273
X-ALT-DESC;FMTTYPE=text/html:Golden Bear Bikes<br />\nJoin us for our <strong>WOMENS </strong>Trek Demo and Road Ride.<br />\nRoad Bikes and Mountain Bikes to try<br />\nDemo starts at 4:30 pm today at the Broomfield Commons Park 13th and Sheridan. Road Ride will start at 6pm. For more information call GBB at 303.469.7273
LOCATION:Broomfield Commons Park
UID:e.641.4342
SEQUENCE:3
DTSTAMP:20260419T115751Z
URL:http://business.broomfieldchamber.com/events/details/trek-womens-demo-and-road-ride-07-25-2012-4342
END:VEVENT

END:VCALENDAR
