BEGIN:VCALENDAR
VERSION:2.0
PRODID:-//ChamberMaster//Event Calendar 2.0//EN
METHOD:PUBLISH
X-PUBLISHED-TTL:P3D
REFRESH-INTERVAL:P3D
CALSCALE:GREGORIAN
BEGIN:VEVENT
DTSTART:20110417T000000Z
DTEND:20110417T050000Z
X-MICROSOFT-CDO-ALLDAYEVENT:FALSE
SUMMARY:Tripping Grizzwalds at The Event Center at Church Ranch
DESCRIPTION:The Tripping Grizzwalds are a 7 piece band that puts on an entire show of dance\, comedy\, and music.  They play a variety of styles\, but mostly classic rock and oldies.\n\n\n\nCome enjoy our beautiful outdoor gardens with numerous waterfalls and fountains\, and enjoy a great date night out!
X-ALT-DESC;FMTTYPE=text/html:The Tripping Grizzwalds are a 7 piece band that puts on an entire show of dance\, comedy\, and music.  They play a variety of styles\, but mostly classic rock and oldies.\n<br>\n<br>Come enjoy our beautiful outdoor gardens with numerous waterfalls and fountains\, and enjoy a great date night out!
LOCATION:The Event Center at Church Ranch 10200 Wadsworth Blvd Westminster\, CO 80021
UID:e.641.1416
SEQUENCE:3
DTSTAMP:20260420T093745Z
URL:http://business.broomfieldchamber.com/events/details/tripping-grizzwalds-at-the-event-center-at-church-ranch-04-16-2011-1416
END:VEVENT

END:VCALENDAR
