BEGIN:VCALENDAR
VERSION:2.0
PRODID:-//ChamberMaster//Event Calendar 2.0//EN
METHOD:PUBLISH
X-PUBLISHED-TTL:P3D
REFRESH-INTERVAL:P3D
CALSCALE:GREGORIAN
BEGIN:VEVENT
DTSTART;VALUE=DATE:20110720
DTEND;VALUE=DATE:20110727
TRANSP:TRANSPARENT
X-MICROSOFT-CDO-ALLDAYEVENT:TRUE
SUMMARY:Trouble-Shooting Your Financial Statements
DESCRIPTION:Do you have trouble reading financial statements?  Do you struggle to understand why your profit doesn't equal the cash in the bank?  Do you understand how to reconcile accounts?  If not\, then come to our seminar - we'll discuss the issues we hear from our clients\, and try to give you a clear picture of the relationship between the balance sheet and the income statement - and what about that statement of cash flows?  Refreshments will be served.
X-ALT-DESC;FMTTYPE=text/html:Do you have trouble reading financial statements?&nbsp\; Do you struggle to understand why&nbsp\;your profit doesn&#39\;t equal the cash in the bank?&nbsp\; Do you understand how to reconcile accounts?&nbsp\; If not\, then come to our seminar - we&#39\;ll discuss the issues we hear from our clients\, and try to give you a clear picture of the relationship between the balance sheet and the income statement - and what about that statement of cash flows?&nbsp\; Refreshments will be served.
LOCATION:10875 Dover Street\, Suite 400\, Westminster\, CO 80021
UID:e.641.2864
SEQUENCE:3
DTSTAMP:20260420T051052Z
URL:http://business.broomfieldchamber.com/events/details/trouble-shooting-your-financial-statements-07-20-2011-2864
END:VEVENT

END:VCALENDAR
