BEGIN:VCALENDAR
VERSION:2.0
PRODID:-//ChamberMaster//Event Calendar 2.0//EN
METHOD:PUBLISH
X-PUBLISHED-TTL:P3D
REFRESH-INTERVAL:P3D
CALSCALE:GREGORIAN
BEGIN:VEVENT
DTSTART;VALUE=DATE:20110401
DTEND;VALUE=DATE:20110501
TRANSP:TRANSPARENT
X-MICROSOFT-CDO-ALLDAYEVENT:TRUE
SUMMARY:Turquoise Mesa Winery Donation to A Precious Child in Broomfield
DESCRIPTION:15% of all sales at Turquioise Mesa Winery in the month of April will be donated to A Precious Child in Broomfiled. Open Friday and Saturday\, 1 to 5 pm\, or call for appointment
X-ALT-DESC;FMTTYPE=text/html:15% of all sales at Turquioise Mesa Winery in the month of April will be donated to A Precious Child in Broomfiled. Open Friday and Saturday\, 1 to 5 pm\, or call for appointment
LOCATION:555 Burbank\, Unit Q\, Broomfield
UID:e.641.1414
SEQUENCE:3
DTSTAMP:20260420T093555Z
URL:http://business.broomfieldchamber.com/events/details/turquoise-mesa-winery-donation-to-a-precious-child-in-broomfield-04-01-2011-1414
END:VEVENT

END:VCALENDAR
