BEGIN:VCALENDAR
VERSION:2.0
PRODID:-//ChamberMaster//Event Calendar 2.0//EN
METHOD:PUBLISH
X-PUBLISHED-TTL:P3D
REFRESH-INTERVAL:P3D
CALSCALE:GREGORIAN
BEGIN:VEVENT
DTSTART:20111210T190000Z
DTEND:20111212T000000Z
X-MICROSOFT-CDO-ALLDAYEVENT:FALSE
SUMMARY:Turquoise Mesa Winery Holiday Event
DESCRIPTION:We want to celebrate the holidays and share our award winning wines with all of our friends! \n\nLook for special holiday offers and suprising foods.\n\nFor the holidays we have a special 10% off of any wine less than 12 bottles purchased and 20% off of a case purchase.
X-ALT-DESC;FMTTYPE=text/html:<span style="font-size: 14px"><span style="font-family: verdana"><em><strong>We want to celebrate the holidays&nbsp\;and share our award winning wines with all of our friends! </strong></em><br />\nLook for special holiday offers and suprising foods.<br />\n<span style="color: #006400"><strong>For the holidays we have a special 10% off of any wine less than 12 bottles&nbsp\;purchased and 20% off of a case purchase.</strong></span></span></span>
LOCATION:555 Burbank\, Unit Q Broomfield\, CO 80020
UID:e.641.3122
SEQUENCE:3
DTSTAMP:20260419T222919Z
URL:http://business.broomfieldchamber.com/events/details/turquoise-mesa-winery-holiday-event-12-10-2011-3122
END:VEVENT

END:VCALENDAR
