BEGIN:VCALENDAR
VERSION:2.0
PRODID:-//ChamberMaster//Event Calendar 2.0//EN
METHOD:PUBLISH
X-PUBLISHED-TTL:P3D
REFRESH-INTERVAL:P3D
CALSCALE:GREGORIAN
BEGIN:VEVENT
DTSTART:20110416T180000Z
DTEND:20110417T000000Z
X-MICROSOFT-CDO-ALLDAYEVENT:FALSE
SUMMARY:Turquoise Mesa Winery Spring Barrel Tasting
DESCRIPTION:Spring barrel tasting at Turquoise Mesa Winery.\n\n\n\nTaste new releases and enjoy award wining barbeque!
X-ALT-DESC;FMTTYPE=text/html:<span style="font-size: 16px">Spring barrel tasting at Turquoise Mesa Winery.<br />\n<br />\nTaste new releases and enjoy award wining barbeque!</span>
LOCATION:555 Burbank\, Unit Q\, Broomfield
UID:e.641.1413
SEQUENCE:3
DTSTAMP:20260420T093139Z
URL:http://business.broomfieldchamber.com/events/details/turquoise-mesa-winery-spring-barrel-tasting-04-16-2011-1413
END:VEVENT

END:VCALENDAR
