BEGIN:VCALENDAR
VERSION:2.0
PRODID:-//ChamberMaster//Event Calendar 2.0//EN
METHOD:PUBLISH
X-PUBLISHED-TTL:P3D
REFRESH-INTERVAL:P3D
CALSCALE:GREGORIAN
BEGIN:VEVENT
DTSTART:20100414T003000Z
DTEND:20100414T020000Z
X-MICROSOFT-CDO-ALLDAYEVENT:FALSE
SUMMARY:Ultimate Wellness Mtg @ Healthy Living & Wellness Center
DESCRIPTION:We will be meeting this month at the Healthy Living Wellness Center in Boulder.
X-ALT-DESC;FMTTYPE=text/html:We will be meeting this month at the Healthy Living Wellness Center in Boulder.
LOCATION:1625 Folsom St
UID:e.641.606
SEQUENCE:3
DTSTAMP:20260421T041033Z
URL:http://business.broomfieldchamber.com/events/details/ultimate-wellness-mtg-healthy-living-wellness-center-04-13-2010-606
END:VEVENT

END:VCALENDAR
