BEGIN:VCALENDAR
VERSION:2.0
PRODID:-//ChamberMaster//Event Calendar 2.0//EN
METHOD:PUBLISH
X-PUBLISHED-TTL:P3D
REFRESH-INTERVAL:P3D
CALSCALE:GREGORIAN
BEGIN:VEVENT
DTSTART:20110725T200000Z
DTEND:20110725T210000Z
X-MICROSOFT-CDO-ALLDAYEVENT:FALSE
SUMMARY:Unlocking Social Security
DESCRIPTION:Armstrong Financial Services is presenting a complimentary informational meeting regarding\n\n	Getting The Most Out Of Your Social Security.  \n\n	This is designed for people getting ready to start taking Social Security\, or who have recently started.\n\n	Did you know that up to 85% of your Social Security benefits can be taxed? \n\n	\n\n	We will be covering:\n\n	 \n\n	\n		Facts about Social Security\, and how it works\n	\n		How to optimize your benefits\n	\n		Raise your awareness\, and arm yourself with key questions\n	\n		Personal Choices which may impact Social Security\n	\n		Coordinating Social Security with your overall income plan
X-ALT-DESC;FMTTYPE=text/html:<p>\n	&nbsp\; Armstrong Financial Services is presenting a complimentary informational meeting regarding<br />\n	<span style="font-size: 14px"><u><em><strong>Getting The Most Out Of Your Social Security.&nbsp\; </strong></em></u></span></p>\n<p>\n	<span style="font-size: 14px"><span style="font-size: 12px">This is designed for people getting ready to start taking Social Security\, or who have recently started.<br />\n	Did you know that up to 85% of your Social Security benefits can be taxed?&nbsp\;<br />\n	<br />\n	We will be covering:</span></span><br />\n	&nbsp\;</p>\n<ul>\n	<li>\n		<span style="font-size: 14px"><span style="font-size: 12px">Facts about Social Security\, and how it works</span></span></li>\n	<li>\n		<span style="font-size: 14px"><span style="font-size: 12px">How to optimize your benefits</span></span></li>\n	<li>\n		<span style="font-size: 14px"><span style="font-size: 12px">Raise your awareness\, and arm yourself with key questions</span></span></li>\n	<li>\n		<span style="font-size: 14px"><span style="font-size: 12px">Personal Choices which may impact Social Security</span></span></li>\n	<li>\n		<span style="font-size: 14px"><span style="font-size: 12px">Coordinating Social Security with your overall income plan</span></span></li>\n</ul>\n
LOCATION:College Hill Library 3645 West 112th Avenue ? Westminster\, CO 80031
UID:e.641.2871
SEQUENCE:3
DTSTAMP:20260420T050431Z
URL:http://business.broomfieldchamber.com/events/details/unlocking-social-security-07-25-2011-2871
END:VEVENT

END:VCALENDAR
