BEGIN:VCALENDAR
VERSION:2.0
PRODID:-//ChamberMaster//Event Calendar 2.0//EN
METHOD:PUBLISH
X-PUBLISHED-TTL:P3D
REFRESH-INTERVAL:P3D
CALSCALE:GREGORIAN
BEGIN:VEVENT
DTSTART:20100616T233000Z
DTEND:20100617T013000Z
X-MICROSOFT-CDO-ALLDAYEVENT:FALSE
SUMMARY:VIP REV Networking Reunion
DESCRIPTION:You asked for it\, you got it!  Who's who at this VIP REV Networking reunion event? Come and see at this "traditional" open networking event!  If you have REVved before\, or not\, and want to connect with Denver's top *professionals\, this will be a great event for you!  Delicious barbecue\, beer\, wine and lots of business at this event.  Bring plenty of business cards and your associates!  Sponsored by REV Corporate Sponsors. *Business to Business Professionals only\, no multi-level/network marketing companies\, please.
X-ALT-DESC;FMTTYPE=text/html:You asked for it\, you got it!  Who's who at this VIP REV Networking reunion event? Come and see at this "traditional" open networking event!  If you have REVved before\, or not\, and want to connect with Denver's top *professionals\, this will be a great event for you!  Delicious barbecue\, beer\, wine and lots of business at this event.  Bring plenty of business cards and your associates!  Sponsored by REV Corporate Sponsors. *Business to Business Professionals only\, no multi-level/network marketing companies\, please.\n<br>
LOCATION:Apple Spice Junction 43 W. 9th Ave Denver 80204
UID:e.641.1091
SEQUENCE:3
DTSTAMP:20260421T022944Z
URL:http://business.broomfieldchamber.com/events/details/vip-rev-networking-reunion-06-16-2010-1091
END:VEVENT

END:VCALENDAR
