BEGIN:VCALENDAR
VERSION:2.0
PRODID:-//ChamberMaster//Event Calendar 2.0//EN
METHOD:PUBLISH
X-PUBLISHED-TTL:P3D
REFRESH-INTERVAL:P3D
CALSCALE:GREGORIAN
BEGIN:VEVENT
DTSTART:20120628T140000Z
DTEND:20120628T213000Z
X-MICROSOFT-CDO-ALLDAYEVENT:FALSE
SUMMARY:Vision Enhancement with Alternative View
DESCRIPTION:YELLOW or FOGGY HEADLIGHTS LIMIT YOUR VISION\n\n	\n\n	Get CLEAR VISION with Alternative View \n\n	Headlight Restoration and Windshield Repair done while you work\n\n	\n\n	Thursday June 28\, 2012 8:00 - 3:30pm\n\n	Questions? Our ladies will be happy to help you!\n\n	We are an environmentally conscious company.\n\n	All materials used are made in the USA.
X-ALT-DESC;FMTTYPE=text/html:<p align="center" class="MsoNormal" style="text-align: center\; margin: 0in 0in 0pt">\n	<span style="line-height: 115%\; font-family: 'Arial'\, 'sans-serif'\; color: red\; font-size: 12pt\; mso-fareast-font-family: 'Times New Roman'">YELLOW </span><span style="line-height: 115%\; font-family: 'Arial'\, 'sans-serif'\; color: #222222\; font-size: 12pt\; mso-fareast-font-family: 'Times New Roman'">or </span><span style="line-height: 115%\; font-family: 'Arial'\, 'sans-serif'\; color: red\; font-size: 12pt\; mso-fareast-font-family: 'Times New Roman'">FOGGY HEADLIGHTS </span><span style="line-height: 115%\; font-family: 'Arial'\, 'sans-serif'\; color: #222222\; font-size: 12pt\; mso-fareast-font-family: 'Times New Roman'">LIMIT YOUR VISION</span><br />\n	<br />\n	<span style="line-height: 115%\; font-family: 'Arial'\, 'sans-serif'\; color: #222222\; font-size: 9pt\; mso-fareast-font-family: 'Times New Roman'">Get </span><span style="line-height: 115%\; font-family: 'Arial'\, 'sans-serif'\; color: purple\; font-size: 12pt\; mso-fareast-font-family: 'Times New Roman'">CLEAR VISION </span><span style="line-height: 115%\; font-family: 'Arial'\, 'sans-serif'\; color: #222222\; font-size: 9pt\; mso-fareast-font-family: 'Times New Roman'">with</span><b><i><span style="line-height: 115%\; font-family: 'Arial'\, 'sans-serif'\; color: #222222\; font-size: 15pt\; mso-fareast-font-family: 'Times New Roman'\; mso-bidi-font-size: 11.0pt"> </span></i></b><b><i><span style="line-height: 115%\; font-family: 'Arial'\, 'sans-serif'\; color: purple\; font-size: 15pt\; mso-fareast-font-family: 'Times New Roman'\; mso-bidi-font-size: 11.0pt">Alternative View </span></i></b><br />\n	<span style="line-height: 115%\; font-family: 'Arial'\, 'sans-serif'\; color: #222222\; font-size: 9pt\; mso-fareast-font-family: 'Times New Roman'">Headlight Restoration and Windshield Repair done while you work</span><br />\n	<br />\n	<span style="line-height: 115%\; font-family: 'Arial'\, 'sans-serif'\; color: #222222\; font-size: 12pt\; mso-fareast-font-family: 'Times New Roman'">Thursday June 28\, 2012 8:00 - 3:30pm<o:p></o:p></span></p>\n<p align="center" class="MsoNormal" style="text-align: center\; line-height: normal\; margin: 0in 0in 0pt">\n	<span style="font-family: 'Arial'\, 'sans-serif'\; color: black\; font-size: 10.5pt\; mso-fareast-font-family: 'Times New Roman'">Questions? </span><span style="font-family: 'Arial'\, 'sans-serif'\; color: purple\; font-size: 10.5pt\; mso-fareast-font-family: 'Times New Roman'">Our ladies will be happy to help you!</span><br />\n	<span style="font-family: 'Arial'\, 'sans-serif'\; color: green\; font-size: 8.5pt\; mso-fareast-font-family: 'Times New Roman'">We are an environmentally conscious company.</span><br />\n	<span style="font-family: 'Arial'\, 'sans-serif'\; color: purple\; font-size: 8.5pt\; mso-fareast-font-family: 'Times New Roman'">All materials used are made in the USA.<o:p></o:p></span></p>\n<p align="center" class="MsoNormal" style="text-align: center\; line-height: normal\; margin: 0in 0in 0pt">\n	<span style="font-family: 'Arial'\, 'sans-serif'\; color: purple\; font-size: 8.5pt\; mso-fareast-font-family: 'Times New Roman'"><o:p>&nbsp\;</o:p></span></p>\n
LOCATION:Ten West 10155 Westmoor Cir Broomfield\, CO 80021
UID:e.641.4301
SEQUENCE:3
DTSTAMP:20260419T132605Z
URL:http://business.broomfieldchamber.com/events/details/vision-enhancement-with-alternative-view-06-28-2012-4301
END:VEVENT

END:VCALENDAR
