BEGIN:VCALENDAR
VERSION:2.0
PRODID:-//ChamberMaster//Event Calendar 2.0//EN
METHOD:PUBLISH
X-PUBLISHED-TTL:P3D
REFRESH-INTERVAL:P3D
CALSCALE:GREGORIAN
BEGIN:VEVENT
DTSTART:20120427T173000Z
DTEND:20120427T190000Z
X-MICROSOFT-CDO-ALLDAYEVENT:FALSE
SUMMARY:Waddell & Reed Business Networking Luncheon
DESCRIPTION:Kim Schell\, a Financial Advisor with Waddell & Reed\, Inc.. invites you to attend "A Plan for All Seasons\," an educational presentation about developing and executing a long-term financial plan to address you unique investment goals.\n\nFollowing\, guests will have an opportunity to introduce themselves and their business.
X-ALT-DESC;FMTTYPE=text/html:<span style="font-size: 14px"><span style="font-family: verdana">Kim Schell\, a Financial Advisor with Waddell &amp\; Reed\, Inc.. invites you to attend <strong>&quot\;A Plan for All Seasons\,&quot\; </strong>an educational presentation about developing and executing a long-term financial plan to address you unique investment goals.<br />\nFollowing\, guests will have an opportunity to introduce themselves and their business.</span></span>
LOCATION:Corporate Office Centers 12303 Airport Way Suite 200 Broomfield\, CO 80021
UID:e.641.4005
SEQUENCE:3
DTSTAMP:20260419T162428Z
URL:http://business.broomfieldchamber.com/events/details/waddell-reed-business-networking-luncheon-04-27-2012-4005
END:VEVENT

END:VCALENDAR
