BEGIN:VCALENDAR
VERSION:2.0
PRODID:-//ChamberMaster//Event Calendar 2.0//EN
METHOD:PUBLISH
X-PUBLISHED-TTL:P3D
REFRESH-INTERVAL:P3D
CALSCALE:GREGORIAN
BEGIN:VEVENT
DTSTART:20110416T143000Z
DTEND:20110416T153000Z
X-MICROSOFT-CDO-ALLDAYEVENT:FALSE
SUMMARY:Walking Club with Living Well Nutrition
DESCRIPTION:Come Walk With Us!  Join Team Living Well in reaching your health goals this Spring.  We will be meeting on Saturdays from 8:30AM to 9:30AM\, beginning April 16th through May 21st.  All ages and levels are welcomed.  For more details and to register call 303-466-3232 or go to www.livingwell-nutrition.com.
X-ALT-DESC;FMTTYPE=text/html:Come Walk With Us!  Join Team Living Well in reaching your health goals this Spring.  We will be meeting on Saturdays from 8:30AM to 9:30AM\, beginning April 16th through May 21st.  All ages and levels are welcomed.  For more details and to register call 303-466-3232 or go to www.livingwell-nutrition.com.
LOCATION:We will be meeting in the North West corner of the parking lot of Front Range Community College\, closest to the Library. 3645 West 112th Avenue Westminster\, CO 80031-2105.
UID:e.641.1421
SEQUENCE:3
DTSTAMP:20260420T093801Z
URL:http://business.broomfieldchamber.com/events/details/walking-club-with-living-well-nutrition-04-16-2011-1421
END:VEVENT

END:VCALENDAR
