BEGIN:VCALENDAR
VERSION:2.0
PRODID:-//ChamberMaster//Event Calendar 2.0//EN
METHOD:PUBLISH
X-PUBLISHED-TTL:P3D
REFRESH-INTERVAL:P3D
CALSCALE:GREGORIAN
BEGIN:VEVENT
DTSTART:20110514T153000Z
DTEND:20110514T173000Z
X-MICROSOFT-CDO-ALLDAYEVENT:FALSE
SUMMARY:Warbird Recovery and Continental Breakfast
DESCRIPTION:You're invited to attend our Warbird Recovery and Continental Breakfast at Western Air Flight Academy. Gordon Page from the Spirit of Flight Center will be doing a "Don't Try This at Home" presentation that will also be about their latest acquisitions. Please RSVP to treese@flywafa.com or kbowman@flywafa.com before end of business on Thursday\, May 12th. You may also call 303-466-6998 to reserve your spot.
X-ALT-DESC;FMTTYPE=text/html:You&#39\;re invited to attend our Warbird Recovery and Continental Breakfast at Western Air Flight Academy. Gordon Page from the Spirit of Flight Center will be doing a &quot\;Don&#39\;t Try This at Home&quot\; presentation that will also be about their latest acquisitions. Please RSVP to treese@flywafa.com or kbowman@flywafa.com before end of business on Thursday\, May 12th. You may also call 303-466-6998 to reserve your spot.
LOCATION:11915 S. Airport Way\, Suite 4 Broomfield\, Co 80021
UID:e.641.1468
SEQUENCE:3
DTSTAMP:20260420T080248Z
URL:http://business.broomfieldchamber.com/events/details/warbird-recovery-and-continental-breakfast-05-14-2011-1468
END:VEVENT

END:VCALENDAR
