BEGIN:VCALENDAR
VERSION:2.0
PRODID:-//ChamberMaster//Event Calendar 2.0//EN
METHOD:PUBLISH
X-PUBLISHED-TTL:P3D
REFRESH-INTERVAL:P3D
CALSCALE:GREGORIAN
BEGIN:VEVENT
DTSTART:20120512T153000Z
DTEND:20120512T173000Z
X-MICROSOFT-CDO-ALLDAYEVENT:FALSE
SUMMARY:Wealth 101 - Summit Bank & Trust
DESCRIPTION:Did you get to attend a wealth building class in grade school? How about in high school? What about in college?\n\n\n\nWait!\n\n\n\nIt was never offered to you?\n\nThat's right\, it wasn't offered because this class didn't exist.\n\nWhich is a huge problem!\n\nWell\, here is your chance to change everything and gain the knowledge that you were never offered in school.\n\n\n\nAsk yourself and answer honestly:\n\nDo I know where my money goes every month?\n\nDo I have debt and wonder if and when I'll be free of it?\n\nDo I think taxes are too high and I wish you could lower my contributions so I could keep more of my money?\n\nAm I scared\, frustrated\, worried\, or just plain pissed off when I think about retirement?\n\n\n\nIf you answered yes\, Yes\, or YES! to any of those questions you NEED to attend my upcoming class.\n\nWealth 101\n\n\n\nGo to www.TandHfa.com to sign up now.\n\n\n\nYou don't have to go another day worried\, frustrated\, or scared about your personal financial situation.\n\nThe time is NOW to take control of your financial life.\n\nI did\, and I can show you how too!\n\n\n\nREGISTER at www.TandHfa.com 39.95/person - Saturday\, May 12th @ 9:30 am
X-ALT-DESC;FMTTYPE=text/html:Did you get to attend a wealth building class in grade school? How about in high school? What about in college?<br />\n<br />\nWait!<br />\n<br />\nIt was never offered to you?<br />\nThat&rsquo\;s right\, it wasn&#39\;t offered because this class didn&rsquo\;t exist.<br />\nWhich is a huge problem!<br />\nWell\, here is your chance to change everything and gain the knowledge that you were never offered in school.<br />\n<br />\nAsk yourself and answer honestly:<br />\nDo I know where my money goes every month?<br />\nDo I have debt and wonder if and when I&#39\;ll be free of it?<br />\nDo I think taxes are too high and I wish you could lower my contributions so I could keep more of my money?<br />\nAm I scared\, frustrated\, worried\, or just plain pissed off when I think about retirement?<br />\n<br />\nIf you answered yes\, Yes\, or YES! to any of those questions you NEED to attend my upcoming class.<br />\nWealth 101<br />\n<br />\nGo to www.TandHfa.com to sign up now.<br />\n<br />\nYou don&rsquo\;t have to go another day worried\, frustrated\, or scared about your personal financial situation.<br />\nThe time is NOW to take control of your financial life.<br />\nI did\, and I can show you how too!<br />\n<br />\nREGISTER at www.TandHfa.com 39.95/person - Saturday\, May 12th @ 9:30 am
LOCATION:Summit Bank & Trust 16501 Washington St. Thornton\, CO 80023
UID:e.641.4158
SEQUENCE:3
DTSTAMP:20260419T144554Z
URL:http://business.broomfieldchamber.com/events/details/wealth-101-summit-bank-trust-05-12-2012-4158
END:VEVENT

END:VCALENDAR
