BEGIN:VCALENDAR
VERSION:2.0
PRODID:-//ChamberMaster//Event Calendar 2.0//EN
METHOD:PUBLISH
X-PUBLISHED-TTL:P3D
REFRESH-INTERVAL:P3D
CALSCALE:GREGORIAN
BEGIN:VEVENT
DTSTART:20110817T180000Z
DTEND:20110817T190000Z
X-MICROSOFT-CDO-ALLDAYEVENT:FALSE
SUMMARY:Wednesday's Broomfield Leaders Leads Group
DESCRIPTION:We meet for 1 hour every Wednesday at New Star Cafe at 12 noon.\n\n	PLEASE JOIN US...Members and Non-Members are welcome to visit!\n\n	\n\n	Chamber Leads Groups generate business opportunities by providing a structured environment where members may pass qualified sales leads in a non-competitive and mutually supportive manner.\n\n	Belonging to a Chamber Leads Group may significantly increase your sales efforts\, since group members have the incentive to become salespersons for each other's products and services. Members within the group become a marketing force for each other. This mutually supportive environment is what makes a Chamber Leads Group so powerful.\n\n	There's a Leads Group that meets each week day at convenient times and locations around the Broomfield Area. Generally only one business category is allowed to participate in each group\, giving you exclusive access to a whole network of business associates in a friendly setting.\n\n	\n\n	Contact this group's moderator before attending: John Vaughan at 303-450-1665 or  Mark Joseph at 720-635-1003
X-ALT-DESC;FMTTYPE=text/html:<p>\n	<span style="font-size: 16px"><strong><span style="font-size: 16px"><strong><span style="color: #0000cd">We meet for 1 hour every&nbsp\;Wednesday at New Star Cafe&nbsp\;at 12 noon.<br />\n	PLEASE JOIN US...Members and Non-Members are welcome to visit!</span></strong></span><br />\n	<br />\n	Chamber Leads Groups</strong> generate business opportunities by providing a structured environment where members may pass qualified sales leads in a non-competitive and mutually supportive manner.</span></p>\n<p>\n	<span style="font-size: 16px"><strong>Belonging to a Chamber Leads Group</strong> may significantly increase your sales efforts\, since group members have the incentive to become salespersons for each other&#39\;s products and services. Members within the group become a marketing force for each other. This mutually supportive environment is what makes a Chamber Leads Group so powerful.</span></p>\n<p>\n	<span style="font-size: 16px"><strong>There&#39\;s a Leads Group that meets each week day</strong> at convenient times and locations around the Broomfield Area. Generally only one business category is allowed to participate in each group\, giving you exclusive access to a whole network of business associates in a friendly setting.<br />\n	<br />\n	Contact this group&#39\;s moderator before attending: John Vaughan at 303-450-1665 or&nbsp\; Mark Joseph at <font size="3">720-635-1003</font></span></p>\n
LOCATION:CB & Potts Flatirons 555 Zang Street Broomfield\, CO 80020
UID:e.641.2126
SEQUENCE:3
DTSTAMP:20260420T050849Z
URL:http://business.broomfieldchamber.com/events/details/wednesday-s-broomfield-leaders-leads-group-08-17-2011-2126
END:VEVENT

END:VCALENDAR
