BEGIN:VCALENDAR
VERSION:2.0
PRODID:-//ChamberMaster//Event Calendar 2.0//EN
METHOD:PUBLISH
X-PUBLISHED-TTL:P3D
REFRESH-INTERVAL:P3D
CALSCALE:GREGORIAN
BEGIN:VEVENT
DTSTART:20090314T150000Z
DTEND:20090314T180000Z
X-MICROSOFT-CDO-ALLDAYEVENT:FALSE
SUMMARY:Wellness Fair March 14\, 2009
DESCRIPTION:
X-ALT-DESC;FMTTYPE=text/html:
LOCATION:Paul Derda Recreation Center
UID:e.641.432
SEQUENCE:3
DTSTAMP:20260422T012622Z
URL:http://business.broomfieldchamber.com/events/details/wellness-fair-march-14-2009-03-14-2009-432
END:VEVENT

END:VCALENDAR
