BEGIN:VCALENDAR
VERSION:2.0
PRODID:-//ChamberMaster//Event Calendar 2.0//EN
METHOD:PUBLISH
X-PUBLISHED-TTL:P3D
REFRESH-INTERVAL:P3D
CALSCALE:GREGORIAN
BEGIN:VEVENT
DTSTART:20110625T160000Z
DTEND:20110625T180000Z
X-MICROSOFT-CDO-ALLDAYEVENT:FALSE
SUMMARY:Western Air Flight Academy Invites all to the Introduction of the new Citabria
DESCRIPTION:Join us for a free Continental Breakfast and special presentation of our newest addition to our flight line: the Citabria.\n\n	Find our what it takes to fly this amazing tail wheel airplane\, what it does and for an opportunity to win a flight in this aircraft.
X-ALT-DESC;FMTTYPE=text/html:<p style="text-align: center">\n	<strong><span style="color: #0000ff"><span style="font-size: 14px"><span style="font-family: tahoma">Join us for a free Continental Breakfast and special presentation of our newest addition to our flight line: the Citabria.</span></span></span></strong></p>\n<p style="text-align: center">\n	<strong><span style="color: #0000ff"><span style="font-size: 14px"><span style="font-family: tahoma">Find our what it takes to fly this amazing tail wheel airplane\, what it does and for an opportunity to win a flight in this aircraft.</span></span></span></strong></p>\n
LOCATION:11915 Airport Way\, Suite 4\, Broomfield\, Co 80021
UID:e.641.1502
SEQUENCE:3
DTSTAMP:20260420T063922Z
URL:http://business.broomfieldchamber.com/events/details/western-air-flight-academy-invites-all-to-the-introduction-of-the-new-citabria-06-25-2011-1502
END:VEVENT

END:VCALENDAR
