BEGIN:VCALENDAR
VERSION:2.0
PRODID:-//ChamberMaster//Event Calendar 2.0//EN
METHOD:PUBLISH
X-PUBLISHED-TTL:P3D
REFRESH-INTERVAL:P3D
CALSCALE:GREGORIAN
BEGIN:VEVENT
DTSTART:20111026T153000Z
DTEND:20111026T173000Z
X-MICROSOFT-CDO-ALLDAYEVENT:FALSE
SUMMARY:Windows 7 Class at Sesser Business Services\, Inc.
DESCRIPTION:Windows 7 Training Class -- Getting the Most Out of Windows 7 \n\n	Accomplish more\, faster by customizing your desktop and manipulating open windows. More effectively manage your devices and more easily share information with people on your home network. Get to important information quicker and communicate more efficiently. \n\n	 \n\n	When is the class? October 26th 2011 from 9:30 AM   11:30 AM \n\n	 \n\n	Who should attend? People who want to be more productive on their Windows 7 computer or learn what is new in Windows 7. \n\n	 \n\n	What is the cost? $50/student. Each student will have their own work station and the class is limited to 6 students. \n\n	 \n\n	Where is the class? At Sesser Business Services\, Inc.'s office located at 7130 W 117th Ave D-2\, Broomfield CO 80020. \n\n	 \n\n	How do I register? Simply call 303 464-7977 or email your contact information to rebecca@sesserbiz.com . We will confirm with you.
X-ALT-DESC;FMTTYPE=text/html:<p class="Default" style="margin: 0in 0in 0pt">\n	<span style="font-size: 16px"><font face="Cambria"><font color="#000000"><b>Windows 7 Training Class -- Getting the Most Out of Windows 7 </b></font></font></span></p>\n<p class="Default" style="margin: 0in 0in 0pt">\n	<span style="font-size: 16px"><span style="font-family: 'calibri'\, 'sans-serif'"><font color="#000000">Accomplish more\, faster by customizing your desktop and manipulating open windows. More effectively manage your devices and more easily share information with people on your home network. Get to important information quicker and communicate more efficiently. </font></span><br />\n	&nbsp\;</span></p>\n<p class="Default" style="margin: 0in 0in 0pt">\n	<span style="font-size: 16px"><font color="#000000"><b><i><span style="font-family: 'calibri'\, 'sans-serif'">When is the class? </span></i></b><span style="font-family: 'calibri'\, 'sans-serif'">October 26</span><span style="font-family: 'calibri'\, 'sans-serif'">th </span><span style="font-family: 'calibri'\, 'sans-serif'">2011 from 9:30 AM &ndash\; 11:30 AM </span></font><br />\n	&nbsp\;</span></p>\n<p class="Default" style="margin: 0in 0in 0pt">\n	<span style="font-size: 16px"><font color="#000000"><b><i><span style="font-family: 'calibri'\, 'sans-serif'">Who should attend? </span></i></b><span style="font-family: 'calibri'\, 'sans-serif'">People who want to be more productive on their Windows 7 computer or learn what is new in Windows 7. </span></font><br />\n	&nbsp\;</span></p>\n<p class="Default" style="margin: 0in 0in 0pt">\n	<span style="font-size: 16px"><font color="#000000"><b><i><span style="font-family: 'calibri'\, 'sans-serif'">What is the cost? </span></i></b><span style="font-family: 'calibri'\, 'sans-serif'">$50/student. Each student will have their own work station and the class is limited to 6 students. </span></font><br />\n	&nbsp\;</span></p>\n<p class="Default" style="margin: 0in 0in 0pt">\n	<span style="font-size: 16px"><font color="#000000"><b><i><span style="font-family: 'calibri'\, 'sans-serif'">Where is the class? </span></i></b><span style="font-family: 'calibri'\, 'sans-serif'">At Sesser Business Services\, Inc.&rsquo\;s office located at 7130 W 117</span><span style="font-family: 'calibri'\, 'sans-serif'">th </span><span style="font-family: 'calibri'\, 'sans-serif'">Ave D-2\, Broomfield CO 80020. </span></font><br />\n	&nbsp\;</span></p>\n<p class="MsoNormal" style="margin: 0in 0in 10pt">\n	<span style="font-size: 16px"><font color="#000000"><b><i><span style="line-height: 115%\; mso-ascii-font-family: calibri\; mso-hansi-font-family: calibri\; mso-bidi-font-family: calibri">How do I register? </span></i></b><span style="line-height: 115%\; mso-ascii-font-family: calibri\; mso-hansi-font-family: calibri\; mso-bidi-font-family: calibri">Simply call 303 464-7977 or email your contact information to rebecca@sesserbiz.com . We will confirm with you.</span></font></span></p>\n
LOCATION:Sesser Business Services\, Inc. 7130 W 117th Ave\, D-2 Broomfield\, CO 80020
UID:e.641.2915
SEQUENCE:3
DTSTAMP:20260420T005302Z
URL:http://business.broomfieldchamber.com/events/details/windows-7-class-at-sesser-business-services-inc-10-26-2011-2915
END:VEVENT

END:VCALENDAR
