BEGIN:VCALENDAR
VERSION:2.0
PRODID:-//ChamberMaster//Event Calendar 2.0//EN
METHOD:PUBLISH
X-PUBLISHED-TTL:P3D
REFRESH-INTERVAL:P3D
CALSCALE:GREGORIAN
BEGIN:VEVENT
DTSTART:20111207T163000Z
DTEND:20111207T183000Z
X-MICROSOFT-CDO-ALLDAYEVENT:FALSE
SUMMARY:Windows 7 Training Class -- Getting the most from Windows 7
DESCRIPTION:Accomplish more\, faster by customizing your desktop and manipulating open windows.  More effectively manage your devices and more easily share information with people on your home network.   Get to important information quicker and communicate more efficiently.\n\n	When is the class?  December 7th  2011 from 9:30 AM   11:30 AM  \n\n	Who should attend?  People familiar with the Windows operating system who want to be more productive on their Windows 7 computer.\n\n	What is the cost?  $50/student.  Each student will have their own work station and the class is limited to 6 students.\n\n	Where is the class?  At Sesser Business Services\, Inc.'s office located at 7130 W 117th Ave D-2\, Broomfield CO 80020.\n\n	How do I register?  Simply call 303 464-7977 or email your contact information to rebecca@sesserbiz.com. We will confirm with you.
X-ALT-DESC;FMTTYPE=text/html:<p class="MsoNormal" style="margin: 0in 0in 10pt">\n	<span style="line-height: 115%\; font-size: 12pt"><font color="#000000">Accomplish more\, faster by customizing your desktop and manipulating open windows.<span style="mso-spacerun: yes">&nbsp\; </span>More effectively manage your devices and more easily share information with people on your home network.<span style="mso-spacerun: yes">&nbsp\;&nbsp\; </span>Get to important information quicker and communicate more efficiently.<o:p></o:p></font></span></p>\n<p class="MsoNormal" style="margin: 0in 0in 10pt">\n	<font color="#000000"><b style="mso-bidi-font-weight: normal"><i style="mso-bidi-font-style: normal"><span style="line-height: 115%\; font-size: 12pt">When is the class?</span></i></b><span style="line-height: 115%\; font-size: 12pt"><span style="mso-spacerun: yes">&nbsp\; </span>December 7<sup>th </sup><span style="mso-spacerun: yes">&nbsp\;</span>2011 from 9:30 AM &ndash\; 11:30 AM<span style="mso-spacerun: yes">&nbsp\; </span><o:p></o:p></span></font></p>\n<p class="MsoNormal" style="margin: 0in 0in 10pt">\n	<font color="#000000"><b style="mso-bidi-font-weight: normal"><i style="mso-bidi-font-style: normal"><span style="line-height: 115%\; font-size: 12pt">Who should attend?</span></i></b><b style="mso-bidi-font-weight: normal"><span style="line-height: 115%\; font-size: 12pt"><span style="mso-spacerun: yes">&nbsp\; </span></span></b><span style="line-height: 115%\; font-size: 12pt">People familiar with the Windows operating system who want to be more productive on their Windows 7 computer.<span style="mso-no-proof: yes"><o:p></o:p></span></span></font></p>\n<p class="MsoNormal" style="margin: 0in 0in 10pt">\n	<font color="#000000"><b style="mso-bidi-font-weight: normal"><i style="mso-bidi-font-style: normal"><span style="line-height: 115%\; font-size: 12pt">What is the cost?</span></i></b><span style="line-height: 115%\; font-size: 12pt"><span style="mso-spacerun: yes">&nbsp\; </span>$50/student.<span style="mso-spacerun: yes">&nbsp\; </span>Each student will have their own work station and the class is limited to 6 students.<o:p></o:p></span></font></p>\n<p class="MsoNormal" style="margin: 0in 0in 10pt">\n	<font color="#000000"><b style="mso-bidi-font-weight: normal"><i style="mso-bidi-font-style: normal"><span style="line-height: 115%\; font-size: 12pt">Where is the class?</span></i></b><span style="line-height: 115%\; font-size: 12pt"><span style="mso-spacerun: yes">&nbsp\; </span>At Sesser Business Services\, Inc.&rsquo\;s office located at 7130 W 117<sup>th</sup> Ave D-2\, Broomfield CO 80020.<o:p></o:p></span></font></p>\n<p class="MsoNormal" style="margin: 0in 0in 10pt">\n	<b style="mso-bidi-font-weight: normal"><i style="mso-bidi-font-style: normal"><span style="line-height: 115%\; font-size: 12pt"><font color="#000000">How do I register?<span style="mso-spacerun: yes">&nbsp\; </span></font></span></i></b><span style="line-height: 115%\; font-size: 12pt"><font color="#000000">Simply call 303 464-7977 or email your contact information to </font><a href="mailto:rebecca@sesserbiz.com"><font color="#0000ff">rebecca@sesserbiz.com</font></a><font color="#000000">. We will confirm with you.<o:p></o:p></font></span></p>\n
LOCATION:Sesser Business Services 7130 W 117th Ave\, D2 Broomfield\, CO 80020
UID:e.641.3105
SEQUENCE:3
DTSTAMP:20260419T221121Z
URL:http://business.broomfieldchamber.com/events/details/windows-7-training-class-getting-the-most-from-windows-7-12-07-2011-3105
END:VEVENT

END:VCALENDAR
