BEGIN:VCALENDAR
VERSION:2.0
PRODID:-//ChamberMaster//Event Calendar 2.0//EN
METHOD:PUBLISH
X-PUBLISHED-TTL:P3D
REFRESH-INTERVAL:P3D
CALSCALE:GREGORIAN
BEGIN:VEVENT
DTSTART:20120607T140000Z
DTEND:20120607T213000Z
X-MICROSOFT-CDO-ALLDAYEVENT:FALSE
SUMMARY:Windshield Repair and Headlight Restoration
DESCRIPTION:Windshield Repair and Headlight Restoration will be available at this location on May 7\, from 8am-3:30pm.\n\n	Stop by!\n\n	Alternative View invites you to ask questions or repair those headlights and windshields.
X-ALT-DESC;FMTTYPE=text/html:<div style="text-align: center">\n	<span style="color: #800080"><span style="font-family: 'Comic Sans MS'\; font-size: 9pt\; mso-fareast-font-family: 'Times New Roman'\; mso-bidi-font-family: Arial">&nbsp\;<span style="font-size: 14px"><span style="font-family: verdana">Windshield Repair and Headlight Restoration will be available at this&nbsp\;location on May 7\, from 8am-3:30pm.<br />\n	Stop by!<br />\n	<span style="mso-fareast-font-family: 'Times New Roman'\; mso-bidi-font-family: Arial">Alternative View invites you to ask questions or repair those headlights and windshields.</span></span></span></span></span></div>\n
LOCATION:Ten West at Westmoor 10155 Westmoor Cir. Broomfield\, CO 80021
UID:e.641.4253
SEQUENCE:3
DTSTAMP:20260419T132546Z
URL:http://business.broomfieldchamber.com/events/details/windshield-repair-and-headlight-restoration-06-07-2012-4253
END:VEVENT

END:VCALENDAR
