BEGIN:VCALENDAR
VERSION:2.0
PRODID:-//ChamberMaster//Event Calendar 2.0//EN
METHOD:PUBLISH
X-PUBLISHED-TTL:P3D
REFRESH-INTERVAL:P3D
CALSCALE:GREGORIAN
BEGIN:VEVENT
DTSTART:20110619T013000Z
DTEND:20110619T043000Z
X-MICROSOFT-CDO-ALLDAYEVENT:FALSE
SUMMARY:Wiz Khalifa @ 1STBANK Center
DESCRIPTION:
X-ALT-DESC;FMTTYPE=text/html:
LOCATION:1STBANK Center
UID:e.641.1433
SEQUENCE:3
DTSTAMP:20260420T063649Z
URL:http://business.broomfieldchamber.com/events/details/wiz-khalifa-1stbank-center-06-18-2011-1433
END:VEVENT

END:VCALENDAR
