BEGIN:VCALENDAR
VERSION:2.0
PRODID:-//ChamberMaster//Event Calendar 2.0//EN
METHOD:PUBLISH
X-PUBLISHED-TTL:P3D
REFRESH-INTERVAL:P3D
CALSCALE:GREGORIAN
BEGIN:VEVENT
DTSTART:20120420T003000Z
DTEND:20120420T023000Z
X-MICROSOFT-CDO-ALLDAYEVENT:FALSE
SUMMARY:Women's Networking Night (WIN)
DESCRIPTION:Free Women's Networking Night!  Join us the third Thurs. of each month for a fun night out and powerful networking. Space is limited so reserve your place early!
X-ALT-DESC;FMTTYPE=text/html:Free Women&#39\;s Networking Night!&nbsp\; Join us the third Thurs. of each month&nbsp\;for a fun night out and powerful networking. Space is limited so reserve your place early!
LOCATION:Mary Kay Studio/Training Center 8771 Wolff Ct.\, Suite 220\, Westinster CO 80030
UID:e.641.3106
SEQUENCE:3
DTSTAMP:20260419T161945Z
URL:http://business.broomfieldchamber.com/events/details/women-s-networking-night-win-04-19-2012-3106
END:VEVENT

END:VCALENDAR
