BEGIN:VCALENDAR
VERSION:2.0
PRODID:-//ChamberMaster//Event Calendar 2.0//EN
METHOD:PUBLISH
X-PUBLISHED-TTL:P3D
REFRESH-INTERVAL:P3D
CALSCALE:GREGORIAN
BEGIN:VEVENT
DTSTART:20120727T000000Z
DTEND:20120727T020000Z
X-MICROSOFT-CDO-ALLDAYEVENT:FALSE
SUMMARY:Womens Bike Maintenance Class
DESCRIPTION:Erin Tyeh Trek Womens Rep and Golden Bear Bikes are having a Womens Bike Maintenance Class at the store from 6pm to 8pm.\n\nWeather permitting it will out side by the GBB store.\n\nBring your bike and any questions you might have.\n\nIf possible please let us know your coming.
X-ALT-DESC;FMTTYPE=text/html:Erin Tyeh Trek Womens Rep and Golden Bear Bikes are having a Womens Bike Maintenance Class at the store from 6pm to 8pm.<br />\nWeather permitting it will out side by the GBB store.<br />\nBring your bike and any questions you might have.<br />\nIf possible please let us know your coming.<br />\n
LOCATION:Golden Bear Bikes
UID:e.641.4344
SEQUENCE:3
DTSTAMP:20260419T120256Z
URL:http://business.broomfieldchamber.com/events/details/womens-bike-maintenance-class-07-26-2012-4344
END:VEVENT

END:VCALENDAR
