BEGIN:VCALENDAR
VERSION:2.0
PRODID:-//ChamberMaster//Event Calendar 2.0//EN
METHOD:PUBLISH
X-PUBLISHED-TTL:P3D
REFRESH-INTERVAL:P3D
CALSCALE:GREGORIAN
BEGIN:VEVENT
DTSTART:20070322T060000Z
DTEND:20070322T060000Z
X-MICROSOFT-CDO-ALLDAYEVENT:FALSE
SUMMARY:Workers Comp Backs & Background Checks Seminar 03/22/2007
DESCRIPTION:
X-ALT-DESC;FMTTYPE=text/html:
LOCATION:Sill-TerHar Ford
UID:e.641.362
SEQUENCE:3
DTSTAMP:20260423T162634Z
URL:http://business.broomfieldchamber.com/events/details/workers-comp-backs-background-checks-seminar-03-22-2007-03-22-2007-362
END:VEVENT

END:VCALENDAR
