BEGIN:VCALENDAR
VERSION:2.0
PRODID:-//ChamberMaster//Event Calendar 2.0//EN
METHOD:PUBLISH
X-PUBLISHED-TTL:P3D
REFRESH-INTERVAL:P3D
CALSCALE:GREGORIAN
BEGIN:VEVENT
DTSTART:20070118T070000Z
DTEND:20070118T070000Z
X-MICROSOFT-CDO-ALLDAYEVENT:FALSE
SUMMARY:Workers Comp ER Preparedness Seminar 1/18/07
DESCRIPTION:
X-ALT-DESC;FMTTYPE=text/html:
LOCATION:Broomfield Police Department Roll Call Room
UID:e.641.352
SEQUENCE:3
DTSTAMP:20260423T175634Z
URL:http://business.broomfieldchamber.com/events/details/workers-comp-er-preparedness-seminar-1-18-07-01-18-2007-352
END:VEVENT

END:VCALENDAR
