BEGIN:VCALENDAR
VERSION:2.0
PRODID:-//ChamberMaster//Event Calendar 2.0//EN
METHOD:PUBLISH
X-PUBLISHED-TTL:P3D
REFRESH-INTERVAL:P3D
CALSCALE:GREGORIAN
BEGIN:VEVENT
DTSTART:20071018T060000Z
DTEND:20071018T060000Z
X-MICROSOFT-CDO-ALLDAYEVENT:FALSE
SUMMARY:Workers' Comp OSHA with Fines
DESCRIPTION:
X-ALT-DESC;FMTTYPE=text/html:
LOCATION:Sill TerHar Ford
UID:e.641.378
SEQUENCE:3
DTSTAMP:20260423T044413Z
URL:http://business.broomfieldchamber.com/events/details/workers-comp-osha-with-fines-10-18-2007-378
END:VEVENT

END:VCALENDAR
