BEGIN:VCALENDAR
VERSION:2.0
PRODID:-//ChamberMaster//Event Calendar 2.0//EN
METHOD:PUBLISH
X-PUBLISHED-TTL:P3D
REFRESH-INTERVAL:P3D
CALSCALE:GREGORIAN
BEGIN:VEVENT
DTSTART;VALUE=DATE:20110507
DTEND;VALUE=DATE:20110508
TRANSP:TRANSPARENT
X-MICROSOFT-CDO-ALLDAYEVENT:TRUE
SUMMARY:"World Famous" Lipizzaner Stallions (two shows) @ 1STBANK Center
DESCRIPTION:2PM and 7:30PM
X-ALT-DESC;FMTTYPE=text/html:2PM and 7:30PM
LOCATION:1STBANK Center
UID:e.641.1399
SEQUENCE:3
DTSTAMP:20260420T080725Z
URL:http://business.broomfieldchamber.com/events/details/world-famous-lipizzaner-stallions-two-shows-1stbank-center-05-07-2011-1399
END:VEVENT

END:VCALENDAR
