BEGIN:VCALENDAR
VERSION:2.0
PRODID:-//ChamberMaster//Event Calendar 2.0//EN
METHOD:PUBLISH
X-PUBLISHED-TTL:P3D
REFRESH-INTERVAL:P3D
CALSCALE:GREGORIAN
BEGIN:VEVENT
DTSTART:20100912T010000Z
DTEND:20100912T030000Z
X-MICROSOFT-CDO-ALLDAYEVENT:FALSE
SUMMARY:World Music\, World Peace
DESCRIPTION:Music has the power to reach across\n\nboundaries\, bringing joy and understanding like nothing else can. Join us for a fantastic evening of original music\n\nby fi ddler for peace Kailin Yong\, together with many talented artists. This concert will also support the Her Many Voices Haiti Project. Alicia Fall of Her Many\n\nVoices will give a slide show presentation to show the work that they have been doing to help rebuild a couple of villages. For the event\, there will also be several artists selling their works to support this cause.
X-ALT-DESC;FMTTYPE=text/html:Music has the power to reach across\n<br>boundaries\, bringing joy and understanding like nothing else can. Join us for a fantastic evening of original music\n<br>by fi ddler for peace Kailin Yong\, together with many talented artists. This concert will also support the Her Many Voices Haiti Project. Alicia Fall of Her Many\n<br>Voices will give a slide show presentation to show the work that they have been doing to help rebuild a couple of villages. For the event\, there will also be several artists selling their works to support this cause.
LOCATION:Broomfield Auditorium 3 Community Park Rd Broomfield CO 80020
UID:e.641.1174
SEQUENCE:3
DTSTAMP:20260420T215658Z
URL:http://business.broomfieldchamber.com/events/details/world-music-world-peace-09-11-2010-1174
END:VEVENT

END:VCALENDAR
