BEGIN:VCALENDAR
VERSION:2.0
PRODID:-//ChamberMaster//Event Calendar 2.0//EN
METHOD:PUBLISH
X-PUBLISHED-TTL:P3D
REFRESH-INTERVAL:P3D
CALSCALE:GREGORIAN
BEGIN:VEVENT
DTSTART:20091112T070000Z
DTEND:20091112T070000Z
X-MICROSOFT-CDO-ALLDAYEVENT:FALSE
SUMMARY:XHIBIT After Hours Nov 2009
DESCRIPTION:
X-ALT-DESC;FMTTYPE=text/html:
LOCATION:The Village at FlatIron Crossing
UID:e.641.457
SEQUENCE:3
DTSTAMP:20260421T122821Z
URL:http://business.broomfieldchamber.com/events/details/xhibit-after-hours-nov-2009-11-12-2009-457
END:VEVENT

END:VCALENDAR
