BEGIN:VCALENDAR
VERSION:2.0
PRODID:-//ChamberMaster//Event Calendar 2.0//EN
METHOD:PUBLISH
X-PUBLISHED-TTL:P3D
REFRESH-INTERVAL:P3D
CALSCALE:GREGORIAN
BEGIN:VEVENT
DTSTART:20110507T020000Z
DTEND:20110507T033000Z
X-MICROSOFT-CDO-ALLDAYEVENT:FALSE
SUMMARY:Young Choreographers Showcase
DESCRIPTION:Young Choreographers Showcase is the culminating performance of a year-long creative process\, which fosters our students' innovation and lack of inhibition in creating original works.
X-ALT-DESC;FMTTYPE=text/html:Young Choreographers Showcase is the culminating performance of a year-long creative process\, which fosters our students' innovation and lack of inhibition in creating original works.
LOCATION:Ballet Nouveau Colorado
UID:e.641.1436
SEQUENCE:3
DTSTAMP:20260420T075543Z
URL:http://business.broomfieldchamber.com/events/details/young-choreographers-showcase-05-06-2011-1436
END:VEVENT

END:VCALENDAR
