BEGIN:VCALENDAR
VERSION:2.0
PRODID:-//ChamberMaster//Event Calendar 2.0//EN
METHOD:PUBLISH
X-PUBLISHED-TTL:P3D
REFRESH-INTERVAL:P3D
CALSCALE:GREGORIAN
BEGIN:VEVENT
DTSTART:20250306T003000Z
DTEND:20250306T020000Z
X-MICROSOFT-CDO-ALLDAYEVENT:FALSE
SUMMARY:Broomfield Business Turnaround A Listening and Strategy Session
DESCRIPTION:If You're Struggling\, We Need to Hear from You.\n\n\n\nAre you a small business owner facing challenges with foot traffic\, visibility\, or revenue? You're not alone\, and we're here to help. Join us for the Broomfield Business Turnaround: A Listening & Strategy Session\, a hybrid (in person and live-streamed virtually) event focused on hearing directly from business owners like you. Your insights will help shape strategies and programs that provide real solutions to the challenges you face.\n\n\n\nWhy Attend?\n\n	Tell us what's holding your business back.\n	Help shape new strategies to boost your visibility and revenue.\n	Your input will help us create more business-saving resources\, funding opportunities\, and expert support.\n	Speak directly with local leaders who can create real change.\n	Share your biggest business challenges and help shape new solutions.\n	Find out what support and funding is available to you now.\n\nThis is a collaborative event designed to drive real results for local businesses. Your input is essential in shaping the future of small business support in Broomfield. Any small business regardless of location is welcome to attend and share their thoughts! However\, this session will place a special emphasis on supporting Broomfield businesses.
X-ALT-DESC;FMTTYPE=text/html:If You&rsquo\;re Struggling\, We Need to Hear from You.<br />\n<br />\nAre you a small business owner facing challenges with foot traffic\, visibility\, or revenue? You&#39\;re not alone\, and we&rsquo\;re here to help. Join us for the Broomfield Business Turnaround: A Listening &amp\; Strategy Session\, a hybrid (in person and live-streamed virtually) event focused on hearing directly from business owners like you.&nbsp\;Your insights will help shape strategies and programs that provide real solutions to the challenges you face.<br />\n<br />\nWhy Attend?\n<ul>\n	<li>Tell us what&rsquo\;s holding your business back.</li>\n	<li>Help shape new strategies to boost your visibility and revenue.</li>\n	<li>Your input will help us create more business-saving resources\, funding opportunities\, and expert support.</li>\n	<li>Speak directly with local leaders who can create real change.</li>\n	<li>Share your biggest business challenges and help shape new solutions.</li>\n	<li>Find out what support and funding is available to you now.</li>\n</ul>\nThis is a collaborative event designed to drive real results for local businesses. Your input is essential in shaping the future of small business support in Broomfield. Any small business&mdash\;regardless of location&mdash\;is welcome to attend and share their thoughts! However\, this session will place a special emphasis on supporting Broomfield businesses.
LOCATION:100 Spader Way Broomfield\, CO 80020 Heritage Room
UID:e.641.24685
SEQUENCE:3
DTSTAMP:20260421T191912Z
URL:https://business.broomfieldchamber.com/events/details/broomfield-business-turnaround-a-listening-and-strategy-session-24685
END:VEVENT

END:VCALENDAR
