BEGIN:VCALENDAR
VERSION:2.0
PRODID:-//ChamberMaster//Event Calendar 2.0//EN
METHOD:PUBLISH
X-PUBLISHED-TTL:P3D
REFRESH-INTERVAL:P3D
CALSCALE:GREGORIAN
BEGIN:VEVENT
DTSTART:20260411T190000Z
DTEND:20260411T210000Z
X-MICROSOFT-CDO-ALLDAYEVENT:FALSE
SUMMARY:Broomfield Home Expo
DESCRIPTION:Planning a home project? Need some trusted professionals in case of unexpected repairs? Skip the endless "contractor near me" searches. Spend one afternoon meeting the Broomfield area's most trusted pros in roofing\, landscaping\, solar\, design\, and more all in one place. No pressure - just experts to answer questions\, fun giveaways and awesome door prizes!
X-ALT-DESC;FMTTYPE=text/html:<div>Planning a home project? Need some trusted professionals in case of unexpected repairs? Skip the endless &ldquo\;contractor near me&rdquo\; searches. Spend one afternoon meeting the Broomfield area&rsquo\;s most trusted pros in roofing\, landscaping\, solar\, design\, and more all in one place. No pressure - just experts to answer questions\, fun giveaways and awesome door prizes!<br />\n<br />\n<br />\n&nbsp\;</div>\n
LOCATION:The Establishment 11885 Bradburn Blvd\, Westminster\, CO 80031
UID:e.641.28934
SEQUENCE:3
DTSTAMP:20260420T222052Z
URL:https://business.broomfieldchamber.com/events/details/broomfield-home-expo-28934
END:VEVENT

END:VCALENDAR
