BEGIN:VCALENDAR
VERSION:2.0
PRODID:-//ChamberMaster//Event Calendar 2.0//EN
METHOD:PUBLISH
X-PUBLISHED-TTL:P3D
REFRESH-INTERVAL:P3D
CALSCALE:GREGORIAN
BEGIN:VEVENT
DTSTART:20250425T000000Z
DTEND:20250425T020000Z
X-MICROSOFT-CDO-ALLDAYEVENT:FALSE
SUMMARY:Bugs and Brews: Spring Fling (21+)
DESCRIPTION:Celebrate the season in a unique way at Butterfly Pavilion's Bugs & Brews: Spring Fling! This adults-only event is the perfect opportunity to sip\, socialize\, and explore the incredible world of invertebrates in a fun and relaxed after-hours setting. Enjoy two complimentary drinks of beer or wine\, thanks to our generous beer sponsor\, Great Divide\, while immersing yourself in springtime excitement. Your Ticket Includes:\n\n\n\n-Two Drinks   Choose from beer\, wine\, or non-alcoholic options as you mingle and explore.\n\n-Exhibit Exploration   Enjoy two hours of exclusive\, adults-only access to Butterfly Pavilion's exhibits\, free from the usual crowds.\n\n-Mini-Lectures on "Pollination Gone Wrong"   Join Senior Director of Horticulture\, Amy Yarger\, for a fascinating look at nature's unexpected pollination mishaps.\n\n-Horticulture Station   Get hands-on by making seed bombs\, and learn how to identify native bees with help from our garden team.\n\n-Honey Tasting Station   Sample a variety of honeys and discover the flavors that honeybees help produce. -Conservation Booth   Meet our conservation team and explore specimens from their current projects across Colorado.\n\n-Expert-Led Garden Tour   Stroll through our outdoor spaces and discover the Colorado pollinators that bring spring to life.\n\n\n\nDon't miss this chance to celebrate spring with a drink in hand and nature all around get your tickets now!
X-ALT-DESC;FMTTYPE=text/html:Celebrate the season in a unique way at Butterfly Pavilion&rsquo\;s Bugs &amp\; Brews: Spring Fling! This adults-only event is the perfect opportunity to sip\, socialize\, and explore the incredible world of invertebrates in a fun and relaxed after-hours setting. Enjoy two complimentary drinks of beer or wine\, thanks to our generous beer sponsor\, Great Divide\, while immersing yourself in springtime excitement. Your Ticket Includes:<br />\n<br />\n-Two Drinks &ndash\; Choose from beer\, wine\, or non-alcoholic options as you mingle and explore.<br />\n-Exhibit Exploration &ndash\; Enjoy two hours of exclusive\, adults-only access to Butterfly Pavilion&rsquo\;s exhibits\, free from the usual crowds.<br />\n-Mini-Lectures on &ldquo\;Pollination Gone Wrong&rdquo\; &ndash\; Join Senior Director of Horticulture\, Amy Yarger\, for a fascinating look at nature&rsquo\;s unexpected pollination mishaps.<br />\n-Horticulture Station &ndash\; Get hands-on by making seed bombs\, and learn how to identify native bees with help from our garden team.<br />\n-Honey Tasting Station &ndash\; Sample a variety of honeys and discover the flavors that honeybees help produce. -Conservation Booth &ndash\; Meet our conservation team and explore specimens from their current projects across Colorado.<br />\n-Expert-Led Garden Tour &ndash\; Stroll through our outdoor spaces and discover the Colorado pollinators that bring spring to life.<br />\n<br />\nDon&rsquo\;t miss this chance to celebrate spring with a drink in hand and nature all around&mdash\;get your tickets now!
LOCATION:Butterfly Pavilion 6252 West 104th Avenue Westminster\, CO 80020 303-469-5441
UID:e.641.24857
SEQUENCE:3
DTSTAMP:20260421T173421Z
URL:https://business.broomfieldchamber.com/events/details/bugs-and-brews-spring-fling-21-24857
END:VEVENT

END:VCALENDAR
