BEGIN:VCALENDAR
VERSION:2.0
PRODID:-//ChamberMaster//Event Calendar 2.0//EN
METHOD:PUBLISH
X-PUBLISHED-TTL:P3D
REFRESH-INTERVAL:P3D
CALSCALE:GREGORIAN
BEGIN:VEVENT
DTSTART:20250303T000000Z
DTEND:20250303T023000Z
X-MICROSOFT-CDO-ALLDAYEVENT:FALSE
SUMMARY:Doc Automotive's Chilli Cook Off to benefit Broomfield FISH
DESCRIPTION:Doc Automotive is hosting our second annual Chilli Cookoff with all proceeds benefiting Broomfield FISH!  Last year 12 chamber members entered Chillis and drew a crowd that donated over 150 pounds of food and more than $2000 that went directly to our neighbors in need.  This year the event will be hosted at Chipper's Lanes\, who is generously donating 20% of all food\, beverage\, and bowling sales to FISH as well as donating the venue space. We are still looking for contestants to make Chilli in the categories Red\, Green and Non-Traditional.  Contestants can put one promotional item in the swag bags that will be given to all attendees. We will be raffling away prizes and 100% of all ticket sales go to FISH.  Doc Automotive has donated a vintage Steel Guitar\, a refurbished laptop\, and a 2 night stay at a local winery and we are looking for donations for more gift baskets to raffle.  All who donate will receive special mention during the raffle. Thanks for helping us make Broomfield one of the best places in the world to raise a family!
X-ALT-DESC;FMTTYPE=text/html:Doc Automotive is hosting our second annual Chilli Cookoff with all proceeds benefiting Broomfield FISH!&nbsp\; Last year 12 chamber members entered Chillis and drew a crowd that donated over 150 pounds of food and more than $2000 that went directly to our neighbors in need.&nbsp\; This year the event will be hosted at Chipper&#39\;s Lanes\, who is generously donating 20% of all food\, beverage\, and bowling sales to FISH as well as donating the venue space. We are still looking for contestants to make Chilli in the categories Red\, Green and Non-Traditional.&nbsp\; Contestants can put one promotional item in the swag bags that will be given to all attendees. We will be raffling away prizes and 100% of all ticket sales go to FISH.&nbsp\; Doc Automotive has donated a vintage Steel Guitar\, a refurbished laptop\, and a 2 night stay at a local winery and we are looking for donations for more gift baskets to raffle.&nbsp\; All who donate will receive special mention during the raffle. Thanks for helping us make Broomfield one of the best places in the world to raise a family!&nbsp\;
LOCATION:Chipper's Lanes 100 Nickel st\, Broomfield CO 80020
UID:e.641.24444
SEQUENCE:3
DTSTAMP:20260421T191751Z
URL:https://business.broomfieldchamber.com/events/details/doc-automotive-s-chilli-cook-off-to-benefit-broomfield-fish-24444
END:VEVENT

END:VCALENDAR
