BEGIN:VCALENDAR
VERSION:2.0
PRODID:-//ChamberMaster//Event Calendar 2.0//EN
METHOD:PUBLISH
X-PUBLISHED-TTL:P3D
REFRESH-INTERVAL:P3D
CALSCALE:GREGORIAN
BEGIN:VEVENT
DTSTART:20250427T190000Z
DTEND:20250427T220000Z
X-MICROSOFT-CDO-ALLDAYEVENT:FALSE
SUMMARY:FRIENDS TopGolf TOurnament
DESCRIPTION:Get ready to tee off for a great cause at our TopGolf Tournament! FRIENDS of Broomfield is a non-profit organization that provides support to adults with intellectual and developmental disabilities through Day\, Residential\, Supported Employment\, Social & Travel\, and Behavioral Support programs. Our mission is to enhance our community by creating opportunities for our participants through an innovative and person-centered approach. In order to fulfill our mission\, we actively engage in various fundraising efforts\, and the FRIENDS TopGolf Tournament is a standout event in our calendar. Enjoy a fun day of golf\, friendly competition\, and an exciting silent auction with amazing items up for grabs\, all while making a meaningful impact. Teams of up to six golfers are welcome\, and sponsorships are available to maximize your involvement. You can also donate an item to the silent auction to drive business and increase your company's exposure. Follow the link to learn more and secure your spot today!
X-ALT-DESC;FMTTYPE=text/html:Get ready to tee off for a great cause at our TopGolf Tournament! FRIENDS of Broomfield is a non-profit organization that provides support to adults with intellectual and developmental disabilities through Day\, Residential\, Supported Employment\, Social &amp\; Travel\, and Behavioral Support programs. Our mission is to enhance our community by creating opportunities for our participants through an innovative and person-centered approach. In order to fulfill our mission\, we actively engage in various fundraising efforts\, and the FRIENDS TopGolf Tournament is a standout event in our calendar. Enjoy a fun day of golf\, friendly competition\, and an exciting silent auction with amazing items up for grabs\, all while making a meaningful impact. Teams of up to six golfers are welcome\, and sponsorships are available to maximize your involvement. You can also donate an item to the silent auction to drive business and increase your company&#39\;s exposure. Follow the link to learn more and secure your spot today!
LOCATION:16011 Grant St\, Thornton\, CO 80023
UID:e.641.24694
SEQUENCE:3
DTSTAMP:20260421T175202Z
URL:https://business.broomfieldchamber.com/events/details/friends-topgolf-tournament-04-27-2025-24694
END:VEVENT

END:VCALENDAR
