BEGIN:VCALENDAR
VERSION:2.0
PRODID:-//ChamberMaster//Event Calendar 2.0//EN
METHOD:PUBLISH
X-PUBLISHED-TTL:P3D
REFRESH-INTERVAL:P3D
CALSCALE:GREGORIAN
BEGIN:VEVENT
DTSTART:20260505T223000Z
DTEND:20260506T000000Z
X-MICROSOFT-CDO-ALLDAYEVENT:FALSE
SUMMARY:Power Partners Networking - Senior Services
DESCRIPTION:Do you want a chance to network with professionals in industries that help you the most? Do you want to just get more networking in? Well\, here is your opportunity. Join the Broomfield Area Chamber\, and your fellow professionals in complimentary industries to yours\, for Power Partners Networking! \n\n\n\nThis event is for our Senior Services group. If your business is geared towards senior citizens\, this is the category for you. For any questions related to this event\, please reach out to the Membership Director\, Jordan Meadows\, or the Senior Services Coordinator\, Renatta Anderson.\n\n\n\n**** REGISTRATION IS REQUIRED ****\n\n\n\nAGENDA:\n\n4:30pm - Open Networking\n\n5:00pm - Meeting Starts (Introductions\, Discussion\, Upcoming Events)
X-ALT-DESC;FMTTYPE=text/html:Do you want a chance to network with professionals in industries that help you the most? Do you want to just get more networking in? Well\, here is your opportunity. Join the Broomfield Area Chamber\, and your fellow professionals in complimentary industries to yours\, for Power Partners Networking!&nbsp\;<br />\n<br />\nThis event is for our Senior Services group. If your business is geared towards senior citizens\, this is the category for you. For any questions related to this event\, please reach out to the Membership Director\, Jordan Meadows\, or the Senior Services Coordinator\, <a href="mailto:Randerson@fairwaymc.com?subject=Senior%20Services%20Question">Renatta Anderson</a>.<br />\n<br />\n**** REGISTRATION IS REQUIRED ****<br />\n<br />\n<strong>AGENDA:</strong><br />\n4:30pm - Open Networking<br />\n5:00pm - Meeting Starts (Introductions\, Discussion\, Upcoming Events)
LOCATION:Blanchard Financial Services - New York Life 370 Interlocken Blvd.\, Suite 600\, Broomfield\, Colorado 80021
UID:e.641.24471
SEQUENCE:3
DTSTAMP:20260420T155058Z
URL:https://business.broomfieldchamber.com/events/details/power-partners-networking-senior-services-05-05-2026-24471
END:VEVENT

END:VCALENDAR
